BEGIN:VCALENDAR
PRODID:-//kirchenweb.ch gmbh//veranstaltungsausgabe v2.0//DE
VERSION:2.0
METHOD:PUBLISH
BEGIN:VEVENT
DTSTART:20240919T070000Z
DTEND:20240919T090000Z
LOCATION:Etzelzentrum\, Etzelstr. 3\, 8820 Wädenswil
TRANSP:OPAQUE
SEQUENCE:0
UID:37762-veranstaltung@kirche-waedenswil.ch
DTSTAMP:20240916T112555Z
DESCRIPTION:Bibel und Bestseller – Johanna Spyri\, eine Frau des 19.
  Jahrhunderts\nVerein Frauenstadtrundgang Zürich: Johanna Spyri –
  bekannt ist ihr Name\, bekannt sind ihre Bücher\, doch was wissen wir
  über diese Frau und ihre Zeit? Auf unserem Rundgang wollen wir der
  berühmtesten Schriftstellerin der Schweiz ihre Geschichte zurückgeben\,
  diese aber auch in die Geschichte der Stadt Zürich einbetten und
  zeigen\, was das Leben einer Oberschichtsfrau zu dieser Zeit ausmachte. 
 \n\nFrühstück gibt es jeweils um 9.00 Uhr\, das Referat beginnt um 9.40
  Uhr. Ende der Veranstaltung ist 11.00 Uhr. Die Veranstaltung kostet Fr.
  12.- mit oder ohne Frühstück. \n\nKontakt: Petra Fischer\, 044 783 00
  52\n\nWeitere Infos: https://www.kirche-waedenswil.ch/veranstaltung/37762
SUMMARY:Ökumenischer FraueZmorge
PRIORITY:5
X-MICROSOFT-CDO-IMPORTANCE:1
CLASS:PUBLIC
END:VEVENT
END:VCALENDAR
