BEGIN:VCALENDAR
PRODID:-//kirchenweb.ch gmbh//veranstaltungsausgabe v2.0//DE
VERSION:2.0
METHOD:PUBLISH
BEGIN:VEVENT
DTSTART:20240426T070000Z
DTEND:20240426T140000Z
LOCATION:Kirchgemeindehaus Rosenmatt\, Gessnerweg 5\, 8820 Wädenswil
TRANSP:OPAQUE
SEQUENCE:0
UID:37478-veranstaltung@kirche-waedenswil.ch
DTSTAMP:20240305T104429Z
DESCRIPTION:Kontakt: Rebekka Gantenbein\, 076 508 86 47‬\n\nWeitere
  Infos: https://www.kirche-waedenswil.ch/veranstaltung/37478
SUMMARY:Minichile Frühlingslager
PRIORITY:5
X-MICROSOFT-CDO-IMPORTANCE:1
CLASS:PUBLIC
END:VEVENT
END:VCALENDAR
