BEGIN:VCALENDAR
PRODID:-//kirchenweb.ch gmbh//veranstaltungsausgabe v2.0//DE
VERSION:2.0
METHOD:PUBLISH
BEGIN:VEVENT
DTSTART:20240915T160000Z
DTEND:20240915T170000Z
LOCATION:Kirchenpavillon Au\, General-Werdmüller-Strasse 20\, 8804 Au
TRANSP:OPAQUE
SEQUENCE:0
UID:37112-veranstaltung@kirche-waedenswil.ch
DTSTAMP:20240911T070715Z
DESCRIPTION:Ein Gottesdienst mit anschliessendem "Nachtessen".\n\n\n\n\n\n
 \nDer Betrag kommt derjenigen Organisation zugute\, welche im Gottesdienst
  erwähnt wurde. Spenden während der Woche werden dem Empfänger des
  letzten Gottesdienstes zugewiesen.\n\nEs ist nicht ersichtlich\, von wem
  die Spende überwiesen wurde.\n\nKontakt: Pfr. Matthias Stauffer\, 076
  318 48 96\n\nWeitere Infos:
  https://www.kirche-waedenswil.ch/veranstaltung/37112
SUMMARY:Gottesdienst - Au - Agapemahl
PRIORITY:5
X-MICROSOFT-CDO-IMPORTANCE:1
CLASS:PUBLIC
END:VEVENT
END:VCALENDAR
