BEGIN:VCALENDAR
PRODID:-//kirchenweb.ch gmbh//veranstaltungsausgabe v2.0//DE
VERSION:2.0
METHOD:PUBLISH
BEGIN:VEVENT
DTSTART:20240505T091500Z
DTEND:20240505T101500Z
LOCATION:Kirchenpavillon Au\, General-Werdmüller-Strasse 20\, 8804 Au
TRANSP:OPAQUE
SEQUENCE:0
UID:37093-veranstaltung@kirche-waedenswil.ch
DTSTAMP:20240429T100209Z
DESCRIPTION:'Lieber Ihr als wir' - so hören wir\, wenn wir davon
  erzählen\, dass wir grad am 'Zügeln' sind. Ja\, es ist eine grosse und
  auch belastende Aufgabe\, selbst wenn man sich\, wie wir\, auf das neue
  Daheim freuen kann.\n\nJe länger je mehr wird mir dabei bewusst\, dass
  die ganze 'Züglerei' im Grunde eine einzige Lebensschule ist. Und
  letztlich sogar eine Sterbensschule.\nOrdnen und Gewichten\, Loslassen\,
  sich Vorbereiten\, einen Weg gehen und sich neu Orientieren. Das und noch
  viel mehr gehört zum 'Zügeln'. Und wo ich mich so sorgfältig
  eingerichtet hatte\, breche ich alles wieder ab. Und wo ich mich jetzt
  gerade so sorgfältig einrichte ... ja\, auch das werde ich eines Tages
  wieder loslassen müssen.\n\nIch lade Sie ein\, mich auf dieser Reise
  gedanklich ein Stück weit zu begleiten.\n\n\n***\n\nWer die Kollekte zur
  Förderung der Bibelarbeit unterstützen möchte\, kann dies auch via
  Twint: \n\n\n\n\n\n\nKontakt: Pfr. Frank Lehmann\, 044 780 33 55\n
 \nWeitere Infos: https://www.kirche-waedenswil.ch/veranstaltung/37093
SUMMARY:Gottesdienst - Au
PRIORITY:5
X-MICROSOFT-CDO-IMPORTANCE:1
CLASS:PUBLIC
END:VEVENT
END:VCALENDAR
