BEGIN:VCALENDAR
PRODID:-//kirchenweb.ch gmbh//veranstaltungsausgabe v2.0//DE
VERSION:2.0
METHOD:PUBLISH
BEGIN:VEVENT
DTSTART:20240915T080000Z
DTEND:20240915T090000Z
LOCATION:Kirche\, Schönenbergstr. 9\, 8820 Wädenswil
TRANSP:OPAQUE
SEQUENCE:0
UID:37056-veranstaltung@kirche-waedenswil.ch
DTSTAMP:20240913T100532Z
DESCRIPTION:Wir danken Gott für die Bewahrung unserer Heimat und bitten
  um Vergebung für Versäumtes.\nEs singt der Jodelclub Hirzel unter der
  Leitung von Jacky Breitenmoser.\nWir feiern das Abendmahl in wandelnder
  Form. \nPredigt zum Psalm 23 von Pfarrer Matthias Stauffer\n\nKontakt:
  Pfr. Matthias Stauffer\, 076 318 48 96\n\nWeitere Infos:
  https://www.kirche-waedenswil.ch/veranstaltung/37056
SUMMARY:Gottesdienst - Bettag - Abendmahl
PRIORITY:5
X-MICROSOFT-CDO-IMPORTANCE:1
CLASS:PUBLIC
END:VEVENT
END:VCALENDAR
