BEGIN:VCALENDAR
PRODID:-//kirchenweb.ch gmbh//veranstaltungsausgabe v2.0//DE
VERSION:2.0
METHOD:PUBLISH
BEGIN:VEVENT
DTSTART:20240901T150000Z
DTEND:20240901T160000Z
LOCATION:Kirche\, Schönenbergstr. 9\, 8820 Wädenswil
TRANSP:OPAQUE
SEQUENCE:0
UID:37054-veranstaltung@kirche-waedenswil.ch
DTSTAMP:20240820T073323Z
DESCRIPTION:Was kannst du gut? Vielleicht auf die höchsten Bäume
  klettern? Zeichnen? ‘Seich’ machen oder Fussball spielen? Vielleicht
  kommt dir grad ganz viel in den Sinn\, was du gut kannst. Vielleicht
  musst du ein wenig überlegen\, bis dir was einfällt. Aber wir sind uns
  sicher: Du kannst ganz viel. An manches gewöhnt man sich auch einfach\,
  hat man es mal gelernt. Aber ganz gewiss bist du nicht grad nach deiner
  Geburt auf deine Beine gestanden und durch die Welt spazierst. Geredet
  – mit Worten – hast du eher auch nicht. Und ob du schon einen Ball
  werfen konntest – hm?...\nSchön\, wenn du dich freust über all das\,
  was du kannst. Und schön\, wenn du dich freuen kannst über das\, was
  deinen Freundinnen und Freunden gelingt. Das ist nämlich gar nicht immer
  so einfach. \nIn dieser FamilyChurch feiern wir\, dass es gerade dich
  gibt. Mit dem\, was du kannst!\n\nZäme Ässe: \nIm Anschluss an den
  Gottesdienst findet ein gemeinsames Znacht statt. \nEin Grill steht
  bereit. Für Getränke ist gesorgt. Nach Möglichkeit essen wir im
  Rosenmattpark.\nBringen Sie Ihr Grillgut und etwas zum Teilen mit\, zum
  Beispiel einen Salat\, Gebäck\, Beilagen und melden Sie sich für das
  Znacht an (Anzahl Personen): Untikinder und ihre Familien direkt bei der
  Katechetin. Alle übrigen bis Freitag\, 30.8. bei Pfrn. Salome Probst.\n
 \nTeam:\nRebekka Gantenbein\, Simone Hauser Hutmacher\, Fabio Reichelt\,
  Katja Wildberger\, Sabine Godinez mit Gastroteam und Pfrn. Salome Probst
 \n\nWeitere Daten 2024:\nSamstag\, 9. November\, 16.00 Uhr\n\n\n\n\n\n\n\n
 \nDer Betrag kommt derjenigen Organisation zugute\, welche im Gottesdienst
  erwähnt wurde. Spenden während der Woche werden dem Empfänger des
  letzten Gottesdienstes zugewiesen.\n\nEs ist nicht ersichtlich\, von wem
  die Spende überwiesen wurde.\n\nKontakt: Pfrn. Salome Probst\, 079 324
  97 79\n\nWeitere Infos:
  https://www.kirche-waedenswil.ch/veranstaltung/37054
SUMMARY:FamilyChurch - Ich chan das!
PRIORITY:5
X-MICROSOFT-CDO-IMPORTANCE:1
CLASS:PUBLIC
END:VEVENT
END:VCALENDAR
