BEGIN:VCALENDAR
PRODID:-//kirchenweb.ch gmbh//veranstaltungsausgabe v2.0//DE
VERSION:2.0
METHOD:PUBLISH
BEGIN:VEVENT
DTSTART:20240825T080000Z
DTEND:20240825T090000Z
LOCATION:Kirche\, Schönenbergstr. 9\, 8820 Wädenswil
TRANSP:OPAQUE
SEQUENCE:0
UID:37053-veranstaltung@kirche-waedenswil.ch
DTSTAMP:20240824T164648Z
DESCRIPTION:Mit den Liebesliedern:\n\n"Ich wollt wie Orpheus singen."
  (Reinhard Mey)\n"La vie en rose" (Piaf)\n"You're my home" (Billy Joel) 
 \nund "Ewigi Liebi (Mash) \n\n\n\n\n\n\n\nDer Betrag kommt derjenigen
  Organisation zugute\, welche im Gottesdienst erwähnt wurde. Spenden
  während der Woche werden dem Empfänger des letzten Gottesdienstes
  zugewiesen.\n\nEs ist nicht ersichtlich\, von wem die Spende überwiesen
  wurde.\n\nKontakt: Pfr. Christian Scharpf\, 078 622 00 28\n\nWeitere
  Infos: https://www.kirche-waedenswil.ch/veranstaltung/37053
SUMMARY:Gottesdienst - Chilbi - Ehejubilare
PRIORITY:5
X-MICROSOFT-CDO-IMPORTANCE:1
CLASS:PUBLIC
END:VEVENT
END:VCALENDAR
