BEGIN:VCALENDAR
PRODID:-//kirchenweb.ch gmbh//veranstaltungsausgabe v2.0//DE
VERSION:2.0
METHOD:PUBLISH
BEGIN:VEVENT
DTSTART:20240804T080000Z
DTEND:20240804T090000Z
LOCATION:Kirche\, Schönenbergstr. 9\, 8820 Wädenswil
TRANSP:OPAQUE
SEQUENCE:0
UID:37050-veranstaltung@kirche-waedenswil.ch
DTSTAMP:20240731T132736Z
DESCRIPTION:Die Seele heilen - Jesus konnte das\, er hat Menschen von
  ihren "Besessenheiten" befreit. Was hilft uns\, wenn unsere Seele leidet?
  Können die biblischen Heilungsgeschichten auch für uns heute bedeutsam
  sein? Anhand der Geschichte vom "Besessenen von Gerasa" gehen wir dieser
  Frage nach. \n\n\n\n\n\n\n\nDer Betrag kommt derjenigen Organisation
  zugute\, welche im Gottesdienst erwähnt wurde. Spenden während der
  Woche werden dem Empfänger des letzten Gottesdienstes zugewiesen.\n\nEs
  ist nicht ersichtlich\, von wem die Spende überwiesen wurde.\n\nKontakt:
  Pfrn. Undine Gellner\, 044 680 41 48\n\nWeitere Infos:
  https://www.kirche-waedenswil.ch/veranstaltung/37050
SUMMARY:Gottesdienst mit Taufmöglichkeit
PRIORITY:5
X-MICROSOFT-CDO-IMPORTANCE:1
CLASS:PUBLIC
END:VEVENT
END:VCALENDAR
