BEGIN:VCALENDAR
PRODID:-//kirchenweb.ch gmbh//veranstaltungsausgabe v2.0//DE
VERSION:2.0
METHOD:PUBLISH
BEGIN:VEVENT
DTSTART:20240428T150000Z
DTEND:20240428T160000Z
LOCATION:Kirche\, Schönenbergstr. 9\, 8820 Wädenswil
TRANSP:OPAQUE
SEQUENCE:0
UID:37038-veranstaltung@kirche-waedenswil.ch
DTSTAMP:20240424T045514Z
DESCRIPTION:„Here comes the sun!“\n\nGottesdienst mit Ralf Peter\,
  Piano\, Jonas Knecht\, Saxophon und Pfarrer Matthias Stauffer.\n\nEs darf
  mit einem spannenden Dialog zwischen Musik und Religion gerechnet werden.
 \n\nKontakt: Pfr. Matthias Stauffer\, 076 318 48 96\n\nWeitere Infos:
  https://www.kirche-waedenswil.ch/veranstaltung/37038
SUMMARY:Here comes the sun…Jazz - Gottesdienst
PRIORITY:5
X-MICROSOFT-CDO-IMPORTANCE:1
CLASS:PUBLIC
END:VEVENT
END:VCALENDAR
