BEGIN:VCALENDAR
PRODID:-//kirchenweb.ch gmbh//veranstaltungsausgabe v2.0//DE
VERSION:2.0
METHOD:PUBLISH
BEGIN:VEVENT
DTSTART:20221216T164500Z
DTEND:20221216T190000Z
LOCATION:Alterssiedlung Bin Rääbe\, \,
TRANSP:OPAQUE
SEQUENCE:0
UID:35657-veranstaltung@kirche-waedenswil.ch
DTSTAMP:20221110T105601Z
DESCRIPTION:Kontakt: Pfrn. Salome Probst\, 079 324 97 79\n\nWeitere Infos:
  https://www.kirche-waedenswil.ch/veranstaltung/35657
SUMMARY:Weihnachtsfeier Alterssiedlung Bin Rääbe
PRIORITY:5
X-MICROSOFT-CDO-IMPORTANCE:1
CLASS:PUBLIC
END:VEVENT
END:VCALENDAR
