BEGIN:VCALENDAR
PRODID:-//kirchenweb.ch gmbh//veranstaltungsausgabe v2.0//DE
VERSION:2.0
METHOD:PUBLISH
BEGIN:VEVENT
DTSTART:20221215T164500Z
DTEND:20221215T174500Z
LOCATION:Alterssiedlung Tobelrai\, Speerstr. 105\, 8820 Wädenswil
TRANSP:OPAQUE
SEQUENCE:0
UID:35656-veranstaltung@kirche-waedenswil.ch
DTSTAMP:20221110T101512Z
DESCRIPTION:Eine Gruppe Kinder singt mehrere Lieder\, \nPfr. Chr. Scharpf
  erzählt eine Weihnachts-Geschichte\, \nund Alle singen vor und nach dem
  Essen noch ein Weihnachtslied. \n\nKontakt: Pfr. Christian Scharpf\, 078
  622 00 28\n\n\nWeitere Infos:
  https://www.kirche-waedenswil.ch/veranstaltung/35656
SUMMARY:Weihnachtsfeier in der Alterssiedlung Tobelrai
PRIORITY:5
X-MICROSOFT-CDO-IMPORTANCE:1
CLASS:PUBLIC
END:VEVENT
END:VCALENDAR
