BEGIN:VCALENDAR
PRODID:-//kirchenweb.ch gmbh//veranstaltungsausgabe v2.0//DE
VERSION:2.0
METHOD:PUBLISH
BEGIN:VEVENT
DTSTART:20221224T170000Z
DTEND:20221224T210000Z
LOCATION:Kirchgemeindehaus Rosenmatt\, Gessnerweg 5\, 8820 Wädenswil
TRANSP:OPAQUE
SEQUENCE:0
UID:34463-veranstaltung@kirche-waedenswil.ch
DTSTAMP:20221216T165114Z
DESCRIPTION:Weihnachtsabend mit feinem Essen und einer besinnlichen Feier
  beim Christbaum\nOb allein\, zu zweit oder als Familie: Bei uns sind alle
  willkommen.\n\nWir freuen uns auf Sie! Pfarrer Frank Lehmann & Petra
  Fischer\n\n18.00 Türöffnung\, mit anschliessendem Apéro und Einladung
  zum gemeinsamen Baumschmücken\n18.45 Beginn der Feier mit feinem Essen\,
  Weihnachtsfeier beim Baum mit weihnachtlichen Liedern und Geschichten.
 \n21.30 Abschluss\nWer noch mag: 22.30 Christnachtfeier in der Kirche\n\n
 \nKontakt: Petra Fischer\, 044 783 00 52\n\nWeitere Infos:
  https://www.kirche-waedenswil.ch/veranstaltung/34463
SUMMARY:Den Heiligen Abend gemeinsam feiern
PRIORITY:5
X-MICROSOFT-CDO-IMPORTANCE:1
CLASS:PUBLIC
END:VEVENT
END:VCALENDAR
