BEGIN:VCALENDAR
PRODID:-//kirchenweb.ch gmbh//veranstaltungsausgabe v2.0//DE
VERSION:2.0
METHOD:PUBLISH
BEGIN:VEVENT
DTSTART:20221128T130000Z
DTEND:20221128T143000Z
LOCATION:Kirchgemeindehaus Rosenmatt\, Gessnerweg 5\, 8820 Wädenswil
TRANSP:OPAQUE
SEQUENCE:0
UID:33870-veranstaltung@kirche-waedenswil.ch
DTSTAMP:20220719T120943Z
DESCRIPTION:Die theologische Gesprächsgruppe trifft sich etwa im
  Monatsrhythmus jeweils Montagnachmittags von 14.00 -15.30 Uhr im
  Kirchgemeindehaus. Themen je nach Interesse der Teilnehmenden. Auch die
  Termine werden mit den Teilnehmenden abgestimmt. Willkommen sind alle
  Interessierten\, auch sporadisch oder punktuell. \n\nKontakt: Pfrn.
  Undine Gellner\, 044 680 41 48\n\nWeitere Infos:
  https://www.kirche-waedenswil.ch/veranstaltung/33870
SUMMARY:Theologische Gesprächsgruppe
PRIORITY:5
X-MICROSOFT-CDO-IMPORTANCE:1
CLASS:PUBLIC
END:VEVENT
END:VCALENDAR
