BEGIN:VCALENDAR
PRODID:-//kirchenweb.ch gmbh//veranstaltungsausgabe v2.0//DE
VERSION:2.0
METHOD:PUBLISH
BEGIN:VEVENT
DTSTART:20221212T180000Z
DTEND:20221212T203000Z
LOCATION:Kirchgemeindehaus Rosenmatt\, Gessnerweg 5\, 8820 Wädenswil
TRANSP:OPAQUE
SEQUENCE:0
UID:33803-veranstaltung@kirche-waedenswil.ch
DTSTAMP:20220908T144234Z
DESCRIPTION:Personen\, die sich schon mit den Grundlagen der Typenlehre
  des Enneagramms vertraut gemacht haben\, treffen sich zu einem
  Austausch\, bei dem gemachte Erfahrungen vertieft und erweitert werden
  können. Moderiert wird die Gesprächsrunde durch die erfahrenen
  Enneagramm-Leiterinnen Renata Bürgin und Christina Kummer.\n\nKosten:
  für alle Abende 75.-- Franken\, oder 15.-- Franken pro Abend\n\n
 \nKontakt: Frau Renate Bürgin\, 044 780 42 56\nFrau Christina Kummer\,
  044 780 15 70\n\nWeitere Infos:
  https://www.kirche-waedenswil.ch/veranstaltung/33803
SUMMARY:Enneagramm-Gesprächsgruppe
PRIORITY:5
X-MICROSOFT-CDO-IMPORTANCE:1
CLASS:PUBLIC
END:VEVENT
END:VCALENDAR
