BEGIN:VCALENDAR
PRODID:-//kirchenweb.ch gmbh//veranstaltungsausgabe v2.0//DE
VERSION:2.0
METHOD:PUBLISH
BEGIN:VEVENT
DTSTART:20261129T153000Z
DTEND:20261129T163000Z
LOCATION:Kirche\, Schönenbergstr. 9\, 8820 Wädenswil
TRANSP:OPAQUE
SEQUENCE:0
UID:33325-veranstaltung@kirche-waedenswil.ch
DTSTAMP:20251103T093219Z
DESCRIPTION:Singen Sie mit uns – wir freuen uns auf Sie!\n\nAltbekannte
  und herzerwärmende Lieder\, vielstimmige Kanons - begleitet\,
  unterstützt oder angeführt von Instrumentalisten und N.N.\n\nDauer ca.
  1h – anschliessend Glüehmoscht und Guetzli für Alle.\nTüröffnung um
  16:10 Uhr\n\nHerzlich laden ein:\nEvang.-ref. Kirchgemeinde Wädenswil\n
 \nKontakt: monika.tiken@kirche-waedenswil.ch\n\nWeitere Infos:
  https://www.kirche-waedenswil.ch/veranstaltung/33325
SUMMARY:Adventssingen
PRIORITY:5
X-MICROSOFT-CDO-IMPORTANCE:1
CLASS:PUBLIC
END:VEVENT
END:VCALENDAR
