BEGIN:VCALENDAR
PRODID:-//kirchenweb.ch gmbh//veranstaltungsausgabe v2.0//DE
VERSION:2.0
METHOD:PUBLISH
BEGIN:VEVENT
DTSTART:20221130T130000Z
DTEND:20221130T150000Z
LOCATION:Kirchgemeindehaus Rosenmatt\, Gessnerweg 5\, 8820 Wädenswil
TRANSP:OPAQUE
SEQUENCE:0
UID:32815-veranstaltung@kirche-waedenswil.ch
DTSTAMP:20221129T222427Z
DESCRIPTION:Kontakt: Pfrn. Undine Gellner\, 044 680 41 48\n\nWeitere
  Infos: https://www.kirche-waedenswil.ch/veranstaltung/32815
SUMMARY:JUKI - Weihnachtsspiel
PRIORITY:5
X-MICROSOFT-CDO-IMPORTANCE:1
CLASS:PUBLIC
END:VEVENT
END:VCALENDAR
