BEGIN:VCALENDAR
PRODID:-//kirchenweb.ch gmbh//veranstaltungsausgabe v2.0//DE
VERSION:2.0
METHOD:PUBLISH
BEGIN:VEVENT
DTSTART:20221214T130000Z
DTEND:20221214T160000Z
LOCATION:Kirchgemeindehaus Rosenmatt\, Gessnerweg 5\, 8820 Wädenswil
TRANSP:OPAQUE
SEQUENCE:0
UID:32759-veranstaltung@kirche-waedenswil.ch
DTSTAMP:20220628T080958Z
DESCRIPTION:Instagram- Selfies-Hochglanzmagazine- die Welt der Schönen...
  Ist alles wahr was glänzt? Was beeinflusst mich? Wir werden und dazu
  Gedanken machen... natürlich mit Verwöhnprogramm. Komm mit in die
  Wellness-Zone! Masken\, Peelings und ein Fotoshooting erwarten dich.\n
 \nKontakt: Pfrn. Salome Probst\, 079 324 97 79\n\nWeitere Infos:
  https://www.kirche-waedenswil.ch/veranstaltung/32759
SUMMARY:JUKI - Beauty - bin ich schön?
PRIORITY:5
X-MICROSOFT-CDO-IMPORTANCE:1
CLASS:PUBLIC
END:VEVENT
END:VCALENDAR
