BEGIN:VCALENDAR
PRODID:-//kirchenweb.ch gmbh//veranstaltungsausgabe v2.0//DE
VERSION:2.0
METHOD:PUBLISH
BEGIN:VEVENT
DTSTART:20221214T173000Z
DTEND:20221214T183000Z
LOCATION:Alterssiedlung Tobelrai\, Speerstr. 105\, 8820 Wädenswil
TRANSP:OPAQUE
SEQUENCE:0
UID:31160-veranstaltung@kirche-waedenswil.ch
DTSTAMP:20221124T163456Z
DESCRIPTION:Gottesdienst im Alterszentrum Tobelrai\n\n\n\n\nKontakt: Pfrn.
  Salome Probst\, 079 324 97 79\n\nWeitere Infos:
  https://www.kirche-waedenswil.ch/veranstaltung/31160
SUMMARY:Gottesdienst Tobelrai
PRIORITY:5
X-MICROSOFT-CDO-IMPORTANCE:1
CLASS:PUBLIC
END:VEVENT
END:VCALENDAR
