BEGIN:VCALENDAR
PRODID:-//kirchenweb.ch gmbh//veranstaltungsausgabe v2.0//DE
VERSION:2.0
METHOD:PUBLISH
BEGIN:VEVENT
DTSTART:20221216T143000Z
DTEND:20221216T173000Z
LOCATION:Kirche\, Schönenbergstr. 9\, 8820 Wädenswil
TRANSP:OPAQUE
SEQUENCE:0
UID:30919-veranstaltung@kirche-waedenswil.ch
DTSTAMP:20221215T191921Z
DESCRIPTION:Kontakt: Pfrn. Undine Gellner\, 044 680 41 48\n\nWeitere
  Infos: https://www.kirche-waedenswil.ch/veranstaltung/30919
SUMMARY:Probe JUKI - Weihnachtsspiel
PRIORITY:5
X-MICROSOFT-CDO-IMPORTANCE:1
CLASS:PUBLIC
END:VEVENT
END:VCALENDAR
