BEGIN:VCALENDAR
PRODID:-//kirchenweb.ch gmbh//veranstaltungsausgabe v2.0//DE
VERSION:2.0
METHOD:PUBLISH
BEGIN:VEVENT
DTSTART:20221215T150000Z
DTEND:20221215T173000Z
LOCATION:Kirche\, Schönenbergstr. 9\, 8820 Wädenswil
TRANSP:OPAQUE
SEQUENCE:0
UID:30917-veranstaltung@kirche-waedenswil.ch
DTSTAMP:20220527T065500Z
DESCRIPTION:Kontakt: Pfrn. Undine Gellner\, 044 680 41 48\n\nWeitere
  Infos: https://www.kirche-waedenswil.ch/veranstaltung/30917
SUMMARY:JUKI -  Weihnachtsspiel
PRIORITY:5
X-MICROSOFT-CDO-IMPORTANCE:1
CLASS:PUBLIC
END:VEVENT
END:VCALENDAR
