BEGIN:VCALENDAR
PRODID:-//kirchenweb.ch gmbh//veranstaltungsausgabe v2.0//DE
VERSION:2.0
METHOD:PUBLISH
BEGIN:VEVENT
DTSTART:20221215T090000Z
DTEND:20221215T100000Z
LOCATION:Alterszentrum Frohmatt\, Bürgerheimstr. 8-12\, 8820 Wädenswil
TRANSP:OPAQUE
SEQUENCE:0
UID:30782-veranstaltung@kirche-waedenswil.ch
DTSTAMP:20221128T111431Z
DESCRIPTION:Es spielt das Blockflöten Ensemble unter der Leitung von Lilo
  Schütz.\n\n10:45 Grusswort durch Frau Pirovino - Zürcher\, Vorsitzende
  der Geschäftsleitung Frohmatt\n\nPredigt Pfr. Matthias Stauffer\n
 \nKontakt: Pfr. Matthias Stauffer\, 076 318 48 96\n\nWeitere Infos:
  https://www.kirche-waedenswil.ch/veranstaltung/30782
SUMMARY:Weihnachtsgottesdienst Frohmatt mit Abendmahl
PRIORITY:5
X-MICROSOFT-CDO-IMPORTANCE:1
CLASS:PUBLIC
END:VEVENT
END:VCALENDAR
