BEGIN:VCALENDAR
PRODID:-//kirchenweb.ch gmbh//veranstaltungsausgabe v2.0//DE
VERSION:2.0
METHOD:PUBLISH
BEGIN:VEVENT
DTSTART:20221207T084500Z
DTEND:20221207T091500Z
LOCATION:Altersheim und Wohnzentrum Fuhr\, Fuhrstr. 42\, 8820 Wädenswil
TRANSP:OPAQUE
SEQUENCE:0
UID:30522-veranstaltung@kirche-waedenswil.ch
DTSTAMP:20221026T200021Z
DESCRIPTION:Kontakt: Pfr. Matthias Stauffer\, 076 318 48 96\n\nWeitere
  Infos: https://www.kirche-waedenswil.ch/veranstaltung/30522
SUMMARY:Gottesdienst Wohnzentrum Fuhr
PRIORITY:5
X-MICROSOFT-CDO-IMPORTANCE:1
CLASS:PUBLIC
END:VEVENT
END:VCALENDAR
