BEGIN:VCALENDAR
PRODID:-//kirchenweb.ch gmbh//veranstaltungsausgabe v2.0//DE
VERSION:2.0
METHOD:PUBLISH
BEGIN:VEVENT
DTSTART:20221211T160000Z
DTEND:20221211T173000Z
LOCATION:Kirche\, Schönenbergstr. 9\, 8820 Wädenswil
TRANSP:OPAQUE
SEQUENCE:0
UID:29382-veranstaltung@kirche-waedenswil.ch
DTSTAMP:20230302T072228Z
DESCRIPTION:Adventskonzert Kammerorchester Wädenswil\nLeitung: Felix
  Schudel\, Solist: Marvin Naef (Stäfa).  Werke von Bach\, Juon und
  Mendelssohn (Violinkonzert e-Moll).\nwww.ko-waedi.ch\n11. Dezember 2022\,
  17.00 Uhr\nRef. Kirche Wädenswil\nEintritt Fr. 30.-/10.-. Vorverkauf:
  Papeterie Köhler\,  Zugerstr. 26\, Wädenswil\, Tel. 044 789 89 50\,
  Abendkasse ab 16.15 h. \n\nKontakt: sigrist@kirche-waedenswil.ch\n
 \nWeitere Infos: https://www.kirche-waedenswil.ch/veranstaltung/29382
SUMMARY:Gastkonzert Kammerorchester Wädenswil
PRIORITY:5
X-MICROSOFT-CDO-IMPORTANCE:1
CLASS:PUBLIC
END:VEVENT
END:VCALENDAR
