BEGIN:VCALENDAR
PRODID:-//kirchenweb.ch gmbh//veranstaltungsausgabe v2.0//DE
VERSION:2.0
METHOD:PUBLISH
BEGIN:VEVENT
DTSTART:20221214T083000Z
DTEND:20221214T091500Z
LOCATION:Kirche\, Schönenbergstr. 9\, 8820 Wädenswil
TRANSP:OPAQUE
SEQUENCE:0
UID:28745-veranstaltung@kirche-waedenswil.ch
DTSTAMP:20221102T142007Z
DESCRIPTION:De chli Hirt und sgrosse Wunder vo de Wiehnacht\n\n‚Du bist
  noch zu klein‘. ‚Das kannst du noch nicht‘. Vermutlich hast du
  diese Sätze auch schon gehört. Der kleine Hirte hört diese Worte
  praktisch jeden Tag. Und gerade heute machen sie ihn traurig. Die Grossen
  wollen nämlich auf eine Reise gehen. Den neuen König wollen sie
  besuchen und ihm Geschenke bringen. Wie gerne wäre da der kleine Hirte
  mit dabei!\nKomm doch ins Fiire mit de Chliine und höre\, wie es ihm
  doch auch gelingt\, den König zu sehen.\n\n\nFiire mit de Chliine\n-
  eine Feier für die Kleinen bis zu fünf Jahren mit ihren Müttern\,
  Vätern\, Gottis\, Göttis\, Grosseltern oder Tageseltern\n- eine
  spannende Geschichte\n- singen\, beten\, feiern\, spielen\, zusammen sein
 \n- eine gute Möglichkeit\, neue Bekanntschaften zu schliessen\n\nTeam
 \nEine Gruppe von Frauen mit guten Ideen\, viel Herzblut und Kreativität:
  Anita Krauss-Breitling\, Andrea Kurzen\, Sabine Grätzer und Pfrn. Salome
  Probst\n\n\n\nKontakt: Pfrn. Salome Probst\, 079 324 97 79\n\nWeitere
  Infos: https://www.kirche-waedenswil.ch/veranstaltung/28745
SUMMARY:Fiire mit de Chliine
PRIORITY:5
X-MICROSOFT-CDO-IMPORTANCE:1
CLASS:PUBLIC
END:VEVENT
END:VCALENDAR
