BEGIN:VCALENDAR
PRODID:-//kirchenweb.ch gmbh//veranstaltungsausgabe v2.0//DE
VERSION:2.0
METHOD:PUBLISH
BEGIN:VEVENT
DTSTART:20221224T153000Z
DTEND:20221224T163000Z
LOCATION:Kirche\, Schönenbergstr. 9\, 8820 Wädenswil
TRANSP:OPAQUE
SEQUENCE:0
UID:28240-veranstaltung@kirche-waedenswil.ch
DTSTAMP:20221223T225250Z
DESCRIPTION:Der Heilige Abend ist ein besonderer Abend.\nViele freuen
  sich\, viele sind gespannt. Die meisten möchten feiern und fröhlich
  sein. Ich möchte etwas spüren vom himmlischen Frieden\, den die Engel
  uns versprochen haben.\n\nAm Heiligabend\, 24. Dezember\, um 16:30 Uhr in
  der Kirche\n\nWir laden ein zu einem Gottesdienst für die ganze Familie.
  Wir machen uns auf den Weg zur Krippe\, wo das Wunder geschieht. Wir
  singen schöne und bekannte Lieder und nehmen das Weihnachtslicht von der
  Kirche mit nach Hause.\n\nNehmt doch eine Laterne oder eine grosse Kerze
  mit. Vielleicht könnt Ihr dann das Licht von der Kirche bis zu Euch nach
  Hause tragen …\n\nFrohe und lichte Advents- und Weihnachtstage
  wünschen wir Euch allen!\n\n(Das Bild stammt aus dem wunderbaren
  Bilderbuch 'Die erste Weihnacht' von Andrew Bond mit Bildern von Brigitte
  Smith)\n\nKontakt: Pfr. Frank Lehmann\, 044 780 33 55\n\nWeitere Infos:
  https://www.kirche-waedenswil.ch/veranstaltung/28240
SUMMARY:Familienweihnachtsfeier
PRIORITY:5
X-MICROSOFT-CDO-IMPORTANCE:1
CLASS:PUBLIC
END:VEVENT
END:VCALENDAR
