BEGIN:VCALENDAR
PRODID:-//kirchenweb.ch gmbh//veranstaltungsausgabe v2.0//DE
VERSION:2.0
METHOD:PUBLISH
BEGIN:VEVENT
DTSTART:20221211T130000Z
DTEND:20221211T140000Z
LOCATION:Schulhaus Stocken\, Langrütistrasse\, 8820 Wädenswil
TRANSP:OPAQUE
SEQUENCE:0
UID:28239-veranstaltung@kirche-waedenswil.ch
DTSTAMP:20221122T131855Z
DESCRIPTION:«Das Schnee-Mädchen»\nEin Schwarz-Weiss-Stumm-Theater mit
  Live-Piano. Von und mit den Kindern vom Kolibri Stocken unter der Leitung
  von Christos Papadopoulos.\nAnschliessend gemütliche Runde bei Kaffee\,
  Tee und Kuchen.\n\nKontakt: Pfrn. Undine Gellner\, 044 680 41 48\n
 \nWeitere Infos: https://www.kirche-waedenswil.ch/veranstaltung/28239
SUMMARY:Kolibriweihnacht - Stocken
PRIORITY:5
X-MICROSOFT-CDO-IMPORTANCE:1
CLASS:PUBLIC
END:VEVENT
END:VCALENDAR
