BEGIN:VCALENDAR
PRODID:-//kirchenweb.ch gmbh//veranstaltungsausgabe v2.0//DE
VERSION:2.0
METHOD:PUBLISH
BEGIN:VEVENT
DTSTART:20221225T101500Z
DTEND:20221225T111500Z
LOCATION:Kirchenpavillon Au\, General-Werdmüller-Strasse 20\, 8804 Au
TRANSP:OPAQUE
SEQUENCE:0
UID:28228-veranstaltung@kirche-waedenswil.ch
DTSTAMP:20241219T085137Z
DESCRIPTION:Der selbstsüchtige Riese \nEin Weihnachts-Gottesdienst zum
  Märchen von Oscar Wilde\, \nin dem ein egoistischer Riese lernt\, seine
  Kraft für die Schwachen und das Schöne zu nutzen.\nUnd wie er dem
  göttlichen Kind begegnet. \n\n\n\n\n\nKontakt: Pfr. Christian Scharpf\,
  078 622 00 28\n\nWeitere Infos:
  https://www.kirche-waedenswil.ch/veranstaltung/28228
SUMMARY:Gottesdienst - Au - Weihnacht
PRIORITY:5
X-MICROSOFT-CDO-IMPORTANCE:1
CLASS:PUBLIC
END:VEVENT
END:VCALENDAR
