BEGIN:VCALENDAR
PRODID:-//kirchenweb.ch gmbh//veranstaltungsausgabe v2.0//DE
VERSION:2.0
METHOD:PUBLISH
BEGIN:VEVENT
DTSTART:20221231T160000Z
DTEND:20221231T170000Z
LOCATION:Kirche\, Schönenbergstr. 9\, 8820 Wädenswil
TRANSP:OPAQUE
SEQUENCE:0
UID:28174-veranstaltung@kirche-waedenswil.ch
DTSTAMP:20221227T140355Z
DESCRIPTION:\n\nKontakt: Pfr. Christian Scharpf\, 078 622 00 28\n\nWeitere
  Infos: https://www.kirche-waedenswil.ch/veranstaltung/28174
SUMMARY:Gottesdienst - Silvester
PRIORITY:5
X-MICROSOFT-CDO-IMPORTANCE:1
CLASS:PUBLIC
END:VEVENT
END:VCALENDAR
