BEGIN:VCALENDAR
PRODID:-//kirchenweb.ch gmbh//veranstaltungsausgabe v2.0//DE
VERSION:2.0
METHOD:PUBLISH
BEGIN:VEVENT
DTSTART:20221225T090000Z
DTEND:20221225T100000Z
LOCATION:Kirche\, Schönenbergstr. 9\, 8820 Wädenswil
TRANSP:OPAQUE
SEQUENCE:0
UID:28173-veranstaltung@kirche-waedenswil.ch
DTSTAMP:20221221T143436Z
DESCRIPTION:Was isch das für e Nacht?’\nSo lautete der Titel für ein
  Weihnachtsspiel\, zu dem vergangene Woche auf einer Onlineplattform
  eingeladen wurde. \nDarunter las ich folgenden Kommentar: dass sich das
  die Christ*innen auch heute noch fragen müssen!\nJa\, das kann einen
  nachdenklich stimmen. Es kann aber auch Lust machen\, dem Wunder von
  Weihnachten nachzuspüren.\nSchön\, wenn wir gemeinsam feiern können!\n
 \n\nKontakt: Pfrn. Salome Probst\, 079 324 97 79\n\nWeitere Infos:
  https://www.kirche-waedenswil.ch/veranstaltung/28173
SUMMARY:Gottesdienst am Weihnachtsmorgen mit Abendmahl
PRIORITY:5
X-MICROSOFT-CDO-IMPORTANCE:1
CLASS:PUBLIC
END:VEVENT
END:VCALENDAR
