BEGIN:VCALENDAR
PRODID:-//kirchenweb.ch gmbh//veranstaltungsausgabe v2.0//DE
VERSION:2.0
METHOD:PUBLISH
BEGIN:VEVENT
DTSTART:20221224T213000Z
DTEND:20221224T223000Z
LOCATION:Kirche\, Schönenbergstr. 9\, 8820 Wädenswil
TRANSP:OPAQUE
SEQUENCE:0
UID:28172-veranstaltung@kirche-waedenswil.ch
DTSTAMP:20221224T195223Z
DESCRIPTION:Feier der Christnacht - „ein Kind ist uns geboren“\nMusik:
  Esther Lenherr\, Orgel und Rahel Pailer\, Sopran\nLesungen aus Lukas 2:
  Ursula Burnand und Markus Alder\nPredigt und Liturgie: Pfarrer Matthias
  Stauffer\n\nKontakt: Pfr. Matthias Stauffer\, 076 318 48 96\n\nWeitere
  Infos: https://www.kirche-waedenswil.ch/veranstaltung/28172
SUMMARY:Christnachtfeier - ein Kind ist uns geboren!
PRIORITY:5
X-MICROSOFT-CDO-IMPORTANCE:1
CLASS:PUBLIC
END:VEVENT
END:VCALENDAR
