BEGIN:VCALENDAR
PRODID:-//kirchenweb.ch gmbh//veranstaltungsausgabe v2.0//DE
VERSION:2.0
METHOD:PUBLISH
BEGIN:VEVENT
DTSTART:20200503T080000Z
DTEND:20200503T090000Z
LOCATION:Website\, \,
TRANSP:OPAQUE
SEQUENCE:0
UID:24626-veranstaltung@kirche-waedenswil.ch
DTSTAMP:20200429T174021Z
DESCRIPTION:Gedanken und Musik zum Sonntag Jubilate\nDieser Sonntag steht
  unter dem Motto: „Jubilate“: Jubelt\, jauchzt\, singt! Die
  Aufforderung steht im Plural: Eigentlich sollte man das gemeinsam tun.
  Das gemeinsame Feiern\, Jubeln und Singen fehlt schmerzhaft im Moment.
  Aber die Zeit kommt\, in der es wieder möglich wird! Ein paar
  Sonntagsgedanken\, Musik\, Lied und Gebet mögen über die Zeit
  hinweghelfen! \nText: Pfrn. Undine Gellner\nMusik: Georges Pulfer\n
 \nhttps://www.kirche-waedenswil.ch/bericht/717\n\nKontakt: Pfrn. Undine
  Gellner\, 044 680 41 48\n\nWeitere Infos:
  https://www.kirche-waedenswil.ch/veranstaltung/24626
SUMMARY:Gedanken und Musik zum Sonntag
PRIORITY:5
X-MICROSOFT-CDO-IMPORTANCE:1
CLASS:PUBLIC
END:VEVENT
END:VCALENDAR
