BEGIN:VCALENDAR
PRODID:-//kirchenweb.ch gmbh//veranstaltungsausgabe v2.0//DE
VERSION:2.0
METHOD:PUBLISH
BEGIN:VEVENT
DTSTART:20200419T080000Z
DTEND:20200419T090000Z
LOCATION:Beachten Sie die beiden Links unten\, \,
TRANSP:OPAQUE
SEQUENCE:0
UID:24534-veranstaltung@kirche-waedenswil.ch
DTSTAMP:20200421T122420Z
DESCRIPTION:Wie schade wäre es\, wenn wir nach Ostern zu sehr auf die
  Gräber unseres Lebens hören!\nDas wäre tödlich.\nWir dürfen dank der
  Auferstehung aber ÖSTERLICH leben.\n\nDazu 200 Sekunden - wahlweise in
  Schrift oder Film.\nhttps://www.kirche-waedenswil.ch/bericht/713\n
 \nHören Sie nachösterliche Musik von Esther Lenherr - wenn Sie mögen\,
  dürfen Sie gern auch mitsingen: https://youtu.be/C6unuFjXWi8\n\nKontakt:
  Pfr. Frank Lehmann\n\nWeitere Infos:
  https://www.kirche-waedenswil.ch/veranstaltung/24534
SUMMARY:Gedanken und Musik zum Sonntag: Österlich leben
PRIORITY:5
X-MICROSOFT-CDO-IMPORTANCE:1
CLASS:PUBLIC
END:VEVENT
END:VCALENDAR
