BEGIN:VCALENDAR
PRODID:-//kirchenweb.ch gmbh//veranstaltungsausgabe v2.0//DE
VERSION:2.0
METHOD:PUBLISH
BEGIN:VEVENT
DTSTART:20221230T180000Z
DTEND:20221230T200000Z
LOCATION:Kirche\, Schönenbergstr. 9\, 8820 Wädenswil
TRANSP:OPAQUE
SEQUENCE:0
UID:24160-veranstaltung@kirche-waedenswil.ch
DTSTAMP:20221208T085310Z
DESCRIPTION:Leitung Kurt Vogel\n\nKontakt: sigrist@kirche-waedenswil.ch\n
 \nWeitere Infos: https://www.kirche-waedenswil.ch/veranstaltung/24160
SUMMARY:Gastkonzert Blaskapelle Zimmerberg
PRIORITY:5
X-MICROSOFT-CDO-IMPORTANCE:1
CLASS:PUBLIC
END:VEVENT
END:VCALENDAR
