BEGIN:VCALENDAR
PRODID:-//kirchenweb.ch gmbh//veranstaltungsausgabe v2.0//DE
VERSION:2.0
METHOD:PUBLISH
BEGIN:VEVENT
DTSTART:20200305T090000Z
DTEND:20200305T100000Z
LOCATION:Altersheim Frohmatt\, Bürgerheimstr. 8-12\, 8820 Wädenswil
TRANSP:OPAQUE
SEQUENCE:0
UID:23247-veranstaltung@kirche-waedenswil.ch
DTSTAMP:20200104T131054Z
DESCRIPTION:Kontakt: Pfr. Frank Lehmann\, 044 780 33 55\n\nWeitere Infos:
  https://www.kirche-waedenswil.ch/veranstaltung/23247
SUMMARY:Gottesdienst Frohmatt
PRIORITY:5
X-MICROSOFT-CDO-IMPORTANCE:1
CLASS:PUBLIC
END:VEVENT
END:VCALENDAR
